Package: CNORode Version: 1.44.0 Maintainer: Attila Gabor MaintainerEmail: attila.gabor at uni-heidelberg.de git_url: https://git.bioconductor.org/packages/CNORode git_branch: RELEASE_3_18 git_last_commit: ffe0ce3 git_last_commit_date: 2023-10-24 09:51:33 -0400 (Tue, 24 Oct 2023)