Package: CMA Version: 1.60.0 Command: /Library/Frameworks/R.framework/Resources/bin/R CMD INSTALL CMA StartedAt: 2024-04-16 10:03:27 -0400 (Tue, 16 Apr 2024) EndedAt: 2024-04-16 10:03:42 -0400 (Tue, 16 Apr 2024) EllapsedTime: 15.2 seconds RetCode: 0 Status: OK