Package: CCPlotR Version: 1.0.0 Command: /Library/Frameworks/R.framework/Resources/bin/R CMD check --install=check:CCPlotR.install-out.txt --library=/Library/Frameworks/R.framework/Resources/library --no-vignettes --timings CCPlotR_1.0.0.tar.gz StartedAt: 2024-04-17 08:16:49 -0400 (Wed, 17 Apr 2024) EndedAt: 2024-04-17 08:18:38 -0400 (Wed, 17 Apr 2024) EllapsedTime: 109.0 seconds RetCode: 0 Status: WARNINGS CheckDir: CCPlotR.Rcheck Warnings: 1