Package: CBEA Version: 1.2.0 Command: rm -rf CBEA.buildbin-libdir && mkdir CBEA.buildbin-libdir && /Users/biocbuild/BBS/utils/build-universal.sh CBEA_1.2.0.tar.gz /Library/Frameworks/R.framework/Resources/bin/R CBEA.buildbin-libdir StartedAt: 2024-04-18 08:32:46 -0400 (Thu, 18 Apr 2024) EndedAt: 2024-04-18 08:33:50 -0400 (Thu, 18 Apr 2024) EllapsedTime: 63.8 seconds RetCode: 0 Status: OK PackageFile: CBEA_1.2.0.tgz PackageFileSize: 2.172 MiB