Package: CAGEfightR Version: 1.22.0 Command: /Library/Frameworks/R.framework/Resources/bin/R CMD build --keep-empty-dirs --no-resave-data CAGEfightR StartedAt: 2024-04-16 14:41:56 -0400 (Tue, 16 Apr 2024) EndedAt: 2024-04-16 14:45:56 -0400 (Tue, 16 Apr 2024) EllapsedTime: 240.5 seconds RetCode: 0 Status: OK PackageFile: CAGEfightR_1.22.0.tar.gz PackageFileSize: 1.704 MiB