Package: CAEN Version: 1.10.0 Command: /Library/Frameworks/R.framework/Resources/bin/R CMD INSTALL CAEN StartedAt: 2024-04-16 10:26:31 -0400 (Tue, 16 Apr 2024) EndedAt: 2024-04-16 10:26:58 -0400 (Tue, 16 Apr 2024) EllapsedTime: 26.9 seconds RetCode: 0 Status: OK