Package: CAEN Version: 1.10.0 Command: /Library/Frameworks/R.framework/Resources/bin/R CMD check --install=check:CAEN.install-out.txt --library=/Library/Frameworks/R.framework/Resources/library --no-vignettes --timings CAEN_1.10.0.tar.gz StartedAt: 2024-04-17 07:54:20 -0400 (Wed, 17 Apr 2024) EndedAt: 2024-04-17 07:57:22 -0400 (Wed, 17 Apr 2024) EllapsedTime: 181.3 seconds RetCode: 0 Status: OK CheckDir: CAEN.Rcheck Warnings: 0