Package: CAEN Version: 1.10.0 Command: /Library/Frameworks/R.framework/Resources/bin/R CMD build --keep-empty-dirs --no-resave-data CAEN StartedAt: 2024-04-16 14:40:31 -0400 (Tue, 16 Apr 2024) EndedAt: 2024-04-16 14:43:44 -0400 (Tue, 16 Apr 2024) EllapsedTime: 193.1 seconds RetCode: 0 Status: OK PackageFile: CAEN_1.10.0.tar.gz PackageFileSize: 988.6 KiB