Package: BufferedMatrix Version: 1.66.0 Command: /Library/Frameworks/R.framework/Resources/bin/R CMD INSTALL BufferedMatrix StartedAt: 2024-04-16 10:02:37 -0400 (Tue, 16 Apr 2024) EndedAt: 2024-04-16 10:02:44 -0400 (Tue, 16 Apr 2024) EllapsedTime: 6.2 seconds RetCode: 0 Status: OK