Package: BubbleTree Version: 2.32.0 Command: /Library/Frameworks/R.framework/Resources/bin/R CMD INSTALL BubbleTree StartedAt: 2024-04-16 11:32:30 -0400 (Tue, 16 Apr 2024) EndedAt: 2024-04-16 11:33:35 -0400 (Tue, 16 Apr 2024) EllapsedTime: 65.4 seconds RetCode: 0 Status: OK