Package: BubbleTree Version: 2.32.0 Command: /Library/Frameworks/R.framework/Resources/bin/R CMD check --install=check:BubbleTree.install-out.txt --library=/Library/Frameworks/R.framework/Resources/library --no-vignettes --timings BubbleTree_2.32.0.tar.gz StartedAt: 2024-04-17 07:45:30 -0400 (Wed, 17 Apr 2024) EndedAt: 2024-04-17 07:52:56 -0400 (Wed, 17 Apr 2024) EllapsedTime: 445.4 seconds RetCode: 0 Status: OK CheckDir: BubbleTree.Rcheck Warnings: 0