Package: BubbleTree Version: 2.32.0 Command: rm -rf BubbleTree.buildbin-libdir && mkdir BubbleTree.buildbin-libdir && /Users/biocbuild/BBS/utils/build-universal.sh BubbleTree_2.32.0.tar.gz /Library/Frameworks/R.framework/Resources/bin/R BubbleTree.buildbin-libdir StartedAt: 2024-04-18 08:29:27 -0400 (Thu, 18 Apr 2024) EndedAt: 2024-04-18 08:30:48 -0400 (Thu, 18 Apr 2024) EllapsedTime: 81.1 seconds RetCode: 0 Status: OK PackageFile: BubbleTree_2.32.0.tgz PackageFileSize: 27.78 MiB