Package: Biostrings Version: 2.70.3 Maintainer: Hervé Pagès MaintainerEmail: hpages.on.github at gmail.com git_url: https://git.bioconductor.org/packages/Biostrings git_branch: RELEASE_3_18 git_last_commit: c213e35 git_last_commit_date: 2024-03-12 13:21:34 -0400 (Tue, 12 Mar 2024)