Package: BiocVersion Version: 3.18.1 Command: /Library/Frameworks/R.framework/Resources/bin/R CMD INSTALL BiocVersion StartedAt: 2024-04-16 10:04:31 -0400 (Tue, 16 Apr 2024) EndedAt: 2024-04-16 10:04:35 -0400 (Tue, 16 Apr 2024) EllapsedTime: 3.6 seconds RetCode: 0 Status: OK