Package: BiocVersion Version: 3.18.1 Command: /Library/Frameworks/R.framework/Resources/bin/R CMD build --keep-empty-dirs --no-resave-data BiocVersion StartedAt: 2024-04-16 14:19:54 -0400 (Tue, 16 Apr 2024) EndedAt: 2024-04-16 14:19:55 -0400 (Tue, 16 Apr 2024) EllapsedTime: 1.2 seconds RetCode: 0 Status: OK PackageFile: BiocVersion_3.18.1.tar.gz PackageFileSize: 994 bytes