Package: BiocVersion Version: 3.18.1 Command: rm -rf BiocVersion.buildbin-libdir && mkdir BiocVersion.buildbin-libdir && /Users/biocbuild/BBS/utils/build-universal.sh BiocVersion_3.18.1.tar.gz /Library/Frameworks/R.framework/Resources/bin/R BiocVersion.buildbin-libdir StartedAt: 2024-04-18 08:24:39 -0400 (Thu, 18 Apr 2024) EndedAt: 2024-04-18 08:24:43 -0400 (Thu, 18 Apr 2024) EllapsedTime: 3.3 seconds RetCode: 0 Status: OK PackageFile: BiocVersion_3.18.1.tgz PackageFileSize: 5.644 KiB