Package: BiocSet Version: 1.16.1 Command: /Library/Frameworks/R.framework/Resources/bin/R CMD INSTALL BiocSet StartedAt: 2024-04-16 10:37:54 -0400 (Tue, 16 Apr 2024) EndedAt: 2024-04-16 10:38:15 -0400 (Tue, 16 Apr 2024) EllapsedTime: 20.9 seconds RetCode: 0 Status: OK