Package: BiocSet Version: 1.16.1 Command: /Library/Frameworks/R.framework/Resources/bin/R CMD build --keep-empty-dirs --no-resave-data BiocSet StartedAt: 2024-04-16 14:17:23 -0400 (Tue, 16 Apr 2024) EndedAt: 2024-04-16 14:19:49 -0400 (Tue, 16 Apr 2024) EllapsedTime: 146.9 seconds RetCode: 0 Status: OK PackageFile: BiocSet_1.16.1.tar.gz PackageFileSize: 358.9 KiB