Package: BiocHubsShiny Version: 1.2.0 Command: rm -rf BiocHubsShiny.buildbin-libdir && mkdir BiocHubsShiny.buildbin-libdir && /Users/biocbuild/BBS/utils/build-universal.sh BiocHubsShiny_1.2.0.tar.gz /Library/Frameworks/R.framework/Resources/bin/R BiocHubsShiny.buildbin-libdir StartedAt: 2024-04-18 08:23:49 -0400 (Thu, 18 Apr 2024) EndedAt: 2024-04-18 08:24:13 -0400 (Thu, 18 Apr 2024) EllapsedTime: 24.8 seconds RetCode: 0 Status: OK PackageFile: BiocHubsShiny_1.2.0.tgz PackageFileSize: 740.5 KiB