Package: BiocGenerics Version: 0.48.1 Command: /Library/Frameworks/R.framework/Resources/bin/R CMD INSTALL BiocGenerics StartedAt: 2024-04-16 10:02:37 -0400 (Tue, 16 Apr 2024) EndedAt: 2024-04-16 10:02:43 -0400 (Tue, 16 Apr 2024) EllapsedTime: 6.4 seconds RetCode: 0 Status: OK