Package: BiocGenerics Version: 0.48.1 Command: /Library/Frameworks/R.framework/Resources/bin/R CMD check --install=check:BiocGenerics.install-out.txt --library=/Library/Frameworks/R.framework/Resources/library --no-vignettes --timings BiocGenerics_0.48.1.tar.gz StartedAt: 2024-04-17 07:01:41 -0400 (Wed, 17 Apr 2024) EndedAt: 2024-04-17 07:02:45 -0400 (Wed, 17 Apr 2024) EllapsedTime: 64.0 seconds RetCode: 0 Status: WARNINGS CheckDir: BiocGenerics.Rcheck Warnings: 1