Package: BiocGenerics Version: 0.48.1 Command: /Library/Frameworks/R.framework/Resources/bin/R CMD build --keep-empty-dirs --no-resave-data BiocGenerics StartedAt: 2024-04-16 14:14:09 -0400 (Tue, 16 Apr 2024) EndedAt: 2024-04-16 14:14:10 -0400 (Tue, 16 Apr 2024) EllapsedTime: 1.2 seconds RetCode: 0 Status: OK PackageFile: BiocGenerics_0.48.1.tar.gz PackageFileSize: 48.39 KiB