Package: BiocBook Version: 1.0.0 Command: /Library/Frameworks/R.framework/Resources/bin/R CMD build --keep-empty-dirs --no-resave-data BiocBook StartedAt: 2024-04-16 14:13:31 -0400 (Tue, 16 Apr 2024) EndedAt: 2024-04-16 14:14:09 -0400 (Tue, 16 Apr 2024) EllapsedTime: 37.3 seconds RetCode: 0 Status: OK PackageFile: BiocBook_1.0.0.tar.gz PackageFileSize: 901 KiB