Package: BioQC Version: 1.30.0 Command: /Library/Frameworks/R.framework/Resources/bin/R CMD build --keep-empty-dirs --no-resave-data BioQC StartedAt: 2024-04-16 14:24:44 -0400 (Tue, 16 Apr 2024) EndedAt: 2024-04-16 14:27:18 -0400 (Tue, 16 Apr 2024) EllapsedTime: 153.7 seconds RetCode: 0 Status: OK PackageFile: BioQC_1.30.0.tar.gz PackageFileSize: 4.301 MiB