Package: BioNERO Version: 1.10.3 Command: /Library/Frameworks/R.framework/Resources/bin/R CMD check --install=check:BioNERO.install-out.txt --library=/Library/Frameworks/R.framework/Resources/library --no-vignettes --timings BioNERO_1.10.3.tar.gz StartedAt: 2024-04-17 07:14:14 -0400 (Wed, 17 Apr 2024) EndedAt: 2024-04-17 07:23:19 -0400 (Wed, 17 Apr 2024) EllapsedTime: 544.7 seconds RetCode: 0 Status: OK CheckDir: BioNERO.Rcheck Warnings: 0