Package: BioCor Version: 1.26.0 Command: /Library/Frameworks/R.framework/Resources/bin/R CMD build --keep-empty-dirs --no-resave-data BioCor StartedAt: 2024-04-16 14:15:33 -0400 (Tue, 16 Apr 2024) EndedAt: 2024-04-16 14:20:24 -0400 (Tue, 16 Apr 2024) EllapsedTime: 290.4 seconds RetCode: 0 Status: OK PackageFile: BioCor_1.26.0.tar.gz PackageFileSize: 1.577 MiB