Package: BindingSiteFinder Version: 2.0.0 Maintainer: Mirko Brüggemann MaintainerEmail: mirko.brueggemann at mail.de git_url: https://git.bioconductor.org/packages/BindingSiteFinder git_branch: RELEASE_3_18 git_last_commit: 8a2c174 git_last_commit_date: 2023-10-24 11:35:05 -0400 (Tue, 24 Oct 2023)