Package: BiRewire Version: 3.34.0 Command: rm -rf BiRewire.buildbin-libdir && mkdir BiRewire.buildbin-libdir && /Users/biocbuild/BBS/utils/build-universal.sh BiRewire_3.34.0.tar.gz /Library/Frameworks/R.framework/Resources/bin/R BiRewire.buildbin-libdir StartedAt: 2024-04-18 08:26:47 -0400 (Thu, 18 Apr 2024) EndedAt: 2024-04-18 08:27:02 -0400 (Thu, 18 Apr 2024) EllapsedTime: 14.9 seconds RetCode: 0 Status: OK PackageFile: BiRewire_3.34.0.tgz PackageFileSize: 735.8 KiB