Package: BgeeCall Version: 1.18.1 Command: /Library/Frameworks/R.framework/Resources/bin/R CMD INSTALL BgeeCall StartedAt: 2024-04-16 11:14:35 -0400 (Tue, 16 Apr 2024) EndedAt: 2024-04-16 11:15:24 -0400 (Tue, 16 Apr 2024) EllapsedTime: 48.9 seconds RetCode: 0 Status: OK