Package: BayesKnockdown Version: 1.28.0 Command: /Library/Frameworks/R.framework/Resources/bin/R CMD INSTALL BayesKnockdown StartedAt: 2024-04-16 10:04:55 -0400 (Tue, 16 Apr 2024) EndedAt: 2024-04-16 10:05:00 -0400 (Tue, 16 Apr 2024) EllapsedTime: 4.3 seconds RetCode: 0 Status: OK