Package: BSgenome Version: 1.70.2 Command: /Library/Frameworks/R.framework/Resources/bin/R CMD check --install=check:BSgenome.install-out.txt --library=/Library/Frameworks/R.framework/Resources/library --no-vignettes --timings BSgenome_1.70.2.tar.gz StartedAt: 2024-04-17 07:43:11 -0400 (Wed, 17 Apr 2024) EndedAt: 2024-04-17 07:50:51 -0400 (Wed, 17 Apr 2024) EllapsedTime: 460.0 seconds RetCode: 0 Status: WARNINGS CheckDir: BSgenome.Rcheck Warnings: 1