Package: BRAIN Version: 1.48.0 Command: /Library/Frameworks/R.framework/Resources/bin/R CMD check --install=check:BRAIN.install-out.txt --library=/Library/Frameworks/R.framework/Resources/library --no-vignettes --timings BRAIN_1.48.0.tar.gz StartedAt: 2024-04-17 07:37:53 -0400 (Wed, 17 Apr 2024) EndedAt: 2024-04-17 07:38:46 -0400 (Wed, 17 Apr 2024) EllapsedTime: 53.1 seconds RetCode: 0 Status: WARNINGS CheckDir: BRAIN.Rcheck Warnings: 2