Package: BPRMeth Version: 1.28.0 Command: /Library/Frameworks/R.framework/Resources/bin/R CMD build --keep-empty-dirs --no-resave-data BPRMeth StartedAt: 2024-04-16 14:33:43 -0400 (Tue, 16 Apr 2024) EndedAt: 2024-04-16 14:35:27 -0400 (Tue, 16 Apr 2024) EllapsedTime: 104.2 seconds RetCode: 0 Status: OK PackageFile: BPRMeth_1.28.0.tar.gz PackageFileSize: 3.275 MiB