Package: BGmix Version: 1.62.0 Command: /Library/Frameworks/R.framework/Resources/bin/R CMD INSTALL BGmix StartedAt: 2024-04-16 10:04:36 -0400 (Tue, 16 Apr 2024) EndedAt: 2024-04-16 10:04:44 -0400 (Tue, 16 Apr 2024) EllapsedTime: 8.1 seconds RetCode: 1 Status: ERROR