Package: BG2 Version: 1.2.0 Command: /Library/Frameworks/R.framework/Resources/bin/R CMD build --keep-empty-dirs --no-resave-data BG2 StartedAt: 2024-04-16 14:04:24 -0400 (Tue, 16 Apr 2024) EndedAt: 2024-04-16 14:16:02 -0400 (Tue, 16 Apr 2024) EllapsedTime: 697.9 seconds RetCode: 0 Status: OK PackageFile: BG2_1.2.0.tar.gz PackageFileSize: 1.131 MiB