Package: BCRANK Version: 1.64.0 Command: /Library/Frameworks/R.framework/Resources/bin/R CMD build --keep-empty-dirs --no-resave-data BCRANK StartedAt: 2024-04-16 13:56:58 -0400 (Tue, 16 Apr 2024) EndedAt: 2024-04-16 13:57:31 -0400 (Tue, 16 Apr 2024) EllapsedTime: 32.4 seconds RetCode: 0 Status: OK PackageFile: BCRANK_1.64.0.tar.gz PackageFileSize: 2.902 MiB