Package: BBCAnalyzer Version: 1.32.0 Command: /Library/Frameworks/R.framework/Resources/bin/R CMD INSTALL BBCAnalyzer StartedAt: 2024-04-16 11:09:09 -0400 (Tue, 16 Apr 2024) EndedAt: 2024-04-16 11:10:06 -0400 (Tue, 16 Apr 2024) EllapsedTime: 57.2 seconds RetCode: 0 Status: OK