Package: BBCAnalyzer Version: 1.32.0 Command: rm -rf BBCAnalyzer.buildbin-libdir && mkdir BBCAnalyzer.buildbin-libdir && /Users/biocbuild/BBS/utils/build-universal.sh BBCAnalyzer_1.32.0.tar.gz /Library/Frameworks/R.framework/Resources/bin/R BBCAnalyzer.buildbin-libdir StartedAt: 2024-04-18 08:19:37 -0400 (Thu, 18 Apr 2024) EndedAt: 2024-04-18 08:20:49 -0400 (Thu, 18 Apr 2024) EllapsedTime: 71.9 seconds RetCode: 0 Status: OK PackageFile: BBCAnalyzer_1.32.0.tgz PackageFileSize: 2.06 MiB