Package: BAGS Version: 2.42.0 Command: /Library/Frameworks/R.framework/Resources/bin/R CMD INSTALL BAGS StartedAt: 2024-04-16 10:03:41 -0400 (Tue, 16 Apr 2024) EndedAt: 2024-04-16 10:03:46 -0400 (Tue, 16 Apr 2024) EllapsedTime: 4.8 seconds RetCode: 0 Status: OK