Package: BAGS Version: 2.42.0 Command: rm -rf BAGS.buildbin-libdir && mkdir BAGS.buildbin-libdir && /Users/biocbuild/BBS/utils/build-universal.sh BAGS_2.42.0.tar.gz /Library/Frameworks/R.framework/Resources/bin/R BAGS.buildbin-libdir StartedAt: 2024-04-18 08:16:34 -0400 (Thu, 18 Apr 2024) EndedAt: 2024-04-18 08:16:43 -0400 (Thu, 18 Apr 2024) EllapsedTime: 9.2 seconds RetCode: 0 Status: OK PackageFile: BAGS_2.42.0.tgz PackageFileSize: 314.6 KiB