Package: AnnotationHubData Version: 1.32.1 Command: /Library/Frameworks/R.framework/Resources/bin/R CMD check --install=check:AnnotationHubData.install-out.txt --library=/Library/Frameworks/R.framework/Resources/library --no-vignettes --timings AnnotationHubData_1.32.1.tar.gz StartedAt: 2024-04-17 05:38:08 -0400 (Wed, 17 Apr 2024) EndedAt: 2024-04-17 05:53:05 -0400 (Wed, 17 Apr 2024) EllapsedTime: 896.6 seconds RetCode: 1 Status: ERROR CheckDir: AnnotationHubData.Rcheck Warnings: NA