Package: AnnotationHubData Version: 1.32.1 Command: /Library/Frameworks/R.framework/Resources/bin/R CMD build --keep-empty-dirs --no-resave-data AnnotationHubData StartedAt: 2024-04-16 13:25:10 -0400 (Tue, 16 Apr 2024) EndedAt: 2024-04-16 13:26:07 -0400 (Tue, 16 Apr 2024) EllapsedTime: 56.6 seconds RetCode: 0 Status: OK PackageFile: AnnotationHubData_1.32.1.tar.gz PackageFileSize: 400.4 KiB