Package: AnnotationHubData Version: 1.32.1 Command: rm -rf AnnotationHubData.buildbin-libdir && mkdir AnnotationHubData.buildbin-libdir && /Users/biocbuild/BBS/utils/build-universal.sh AnnotationHubData_1.32.1.tar.gz /Library/Frameworks/R.framework/Resources/bin/R AnnotationHubData.buildbin-libdir StartedAt: 2024-04-18 08:12:29 -0400 (Thu, 18 Apr 2024) EndedAt: 2024-04-18 08:13:36 -0400 (Thu, 18 Apr 2024) EllapsedTime: 66.9 seconds RetCode: 0 Status: OK PackageFile: AnnotationHubData_1.32.1.tgz PackageFileSize: 941.4 KiB