Package: AnnotationHubData Version: 1.32.1 Maintainer: Bioconductor Package Maintainer MaintainerEmail: maintainer at bioconductor.org git_url: https://git.bioconductor.org/packages/AnnotationHubData git_branch: RELEASE_3_18 git_last_commit: 938caa2 git_last_commit_date: 2024-02-12 13:07:50 -0400 (Mon, 12 Feb 2024)