Package: AnnotationForge Version: 1.44.0 Command: /Library/Frameworks/R.framework/Resources/bin/R CMD check --install=check:AnnotationForge.install-out.txt --library=/Library/Frameworks/R.framework/Resources/library --no-vignettes --timings AnnotationForge_1.44.0.tar.gz StartedAt: 2024-04-17 05:36:29 -0400 (Wed, 17 Apr 2024) EndedAt: 2024-04-17 05:38:44 -0400 (Wed, 17 Apr 2024) EllapsedTime: 134.8 seconds RetCode: 0 Status: OK CheckDir: AnnotationForge.Rcheck Warnings: 0