Package: AnnotationDbi Version: 1.64.1 Command: /Library/Frameworks/R.framework/Resources/bin/R CMD INSTALL AnnotationDbi StartedAt: 2024-04-16 10:35:21 -0400 (Tue, 16 Apr 2024) EndedAt: 2024-04-16 10:35:45 -0400 (Tue, 16 Apr 2024) EllapsedTime: 23.1 seconds RetCode: 0 Status: OK