Package: AneuFinder Version: 1.30.0 Command: rm -rf AneuFinder.buildbin-libdir && mkdir AneuFinder.buildbin-libdir && /Users/biocbuild/BBS/utils/build-universal.sh AneuFinder_1.30.0.tar.gz /Library/Frameworks/R.framework/Resources/bin/R AneuFinder.buildbin-libdir StartedAt: 2024-04-18 08:11:26 -0400 (Thu, 18 Apr 2024) EndedAt: 2024-04-18 08:12:29 -0400 (Thu, 18 Apr 2024) EllapsedTime: 62.5 seconds RetCode: 0 Status: OK PackageFile: AneuFinder_1.30.0.tgz PackageFileSize: 2.449 MiB