Package: AnVIL Version: 1.14.3 Maintainer: Marcel Ramos MaintainerEmail: marcel.ramos at roswellpark.org git_url: https://git.bioconductor.org/packages/AnVIL git_branch: RELEASE_3_18 git_last_commit: 0d45276 git_last_commit_date: 2024-04-15 11:54:52 -0400 (Mon, 15 Apr 2024)