Package: AllelicImbalance Version: 1.40.0 Command: rm -rf AllelicImbalance.buildbin-libdir && mkdir AllelicImbalance.buildbin-libdir && /Users/biocbuild/BBS/utils/build-universal.sh AllelicImbalance_1.40.0.tar.gz /Library/Frameworks/R.framework/Resources/bin/R AllelicImbalance.buildbin-libdir StartedAt: 2024-04-18 08:10:44 -0400 (Thu, 18 Apr 2024) EndedAt: 2024-04-18 08:12:08 -0400 (Thu, 18 Apr 2024) EllapsedTime: 84.3 seconds RetCode: 0 Status: OK PackageFile: AllelicImbalance_1.40.0.tgz PackageFileSize: 1.223 MiB