Package: AgiMicroRna Version: 2.52.0 Command: /Library/Frameworks/R.framework/Resources/bin/R CMD build --keep-empty-dirs --no-resave-data AgiMicroRna StartedAt: 2024-04-16 13:14:18 -0400 (Tue, 16 Apr 2024) EndedAt: 2024-04-16 13:17:17 -0400 (Tue, 16 Apr 2024) EllapsedTime: 178.8 seconds RetCode: 0 Status: OK PackageFile: AgiMicroRna_2.52.0.tar.gz PackageFileSize: 3.066 MiB